BEGIN:VCALENDAR
VERSION:2.0
PRODID:-//Sabre//Sabre VObject 4.5.6//EN
CALSCALE:GREGORIAN
BEGIN:VEVENT
UID:sabre-vobject-c29059f2-8402-444f-94a6-bcbd76f07eb4
DTSTAMP:20260423T091038Z
SUMMARY:Albenausgabe für alle EK-Kinder Pfarrheim Altenstadt
DESCRIPTION:https://kalender-bistum-augsburg.de/veranstaltungen/albenausgab
 e-fuer-alle-ek-kinder-pfarrheim-altenstadt_id23834
DTSTART:20250324T143000
DTEND:20250324T163000
END:VEVENT
END:VCALENDAR
