BEGIN:VCALENDAR
VERSION:2.0
PRODID:-//Sabre//Sabre VObject 4.5.6//EN
CALSCALE:GREGORIAN
BEGIN:VEVENT
UID:sabre-vobject-d5cac2cc-b75a-4bbd-8ec8-693a2176d64d
DTSTAMP:20260421T000318Z
SUMMARY:freiwillige Gebetswerkstatt Gruppe 2 Pfarrheim Altenstadt
DESCRIPTION:https://kalender-bistum-augsburg.de/veranstaltungen/freiwillige
 -gebetswerkstatt-gruppe-2-pfarrheim-altenstadt_id23832
DTSTART:20250317T173000
DTEND:20250317T182000
END:VEVENT
END:VCALENDAR
