BEGIN:VCALENDAR
VERSION:2.0
PRODID:-//Sabre//Sabre VObject 4.5.6//EN
CALSCALE:GREGORIAN
BEGIN:VEVENT
UID:sabre-vobject-9a0b663e-e97d-4c5c-9b3c-06f708891e20
DTSTAMP:20260421T034631Z
SUMMARY:freiwillige Gebetswerkstatt Gruppe 1 Pfarrheim Altenstadt
DESCRIPTION:https://kalender-bistum-augsburg.de/veranstaltungen/freiwillige
 -gebetswerkstatt-gruppe-1-pfarrheim-altenstadt_id23830
DTSTART:20250317T163000
DTEND:20250317T172000
END:VEVENT
END:VCALENDAR
