BEGIN:VCALENDAR
VERSION:2.0
PRODID:-//Sabre//Sabre VObject 4.5.6//EN
CALSCALE:GREGORIAN
BEGIN:VEVENT
UID:sabre-vobject-c42753c7-f270-424e-b100-1e974c629384
DTSTAMP:20260421T051850Z
SUMMARY:freiwillige Gebetswerkstatt Gruppe 2 Pfarrheim Altenstadt
DESCRIPTION:https://kalender-bistum-augsburg.de/veranstaltungen/freiwillige
 -gebetswerkstatt-gruppe-2-pfarrheim-altenstadt_id23829
DTSTART:20250310T173000
DTEND:20250310T182000
END:VEVENT
END:VCALENDAR
