BEGIN:VCALENDAR
VERSION:2.0
PRODID:-//Sabre//Sabre VObject 4.5.6//EN
CALSCALE:GREGORIAN
BEGIN:VEVENT
UID:sabre-vobject-88e05a29-1aba-4be4-bc89-c8e243e054cd
DTSTAMP:20260421T070401Z
SUMMARY:freiwillige Gebetswerkstatt Gruppe 1 Pfarrheim Altenstadt
DESCRIPTION:https://kalender-bistum-augsburg.de/veranstaltungen/freiwillige
 -gebetswerkstatt-gruppe-1-pfarrheim-altenstadt_id23828
DTSTART:20250310T163000
DTEND:20250310T172000
END:VEVENT
END:VCALENDAR
