BEGIN:VCALENDAR
VERSION:2.0
PRODID:-//Sabre//Sabre VObject 4.5.6//EN
CALSCALE:GREGORIAN
BEGIN:VEVENT
UID:sabre-vobject-ee4b177e-530e-493d-91f5-283c280a2d5b
DTSTAMP:20260421T070330Z
SUMMARY:im Anschluss an die Heilige Messe: Treffen aller EK-Kinder im Pfarr
 heim in Altenstadt
DESCRIPTION:https://kalender-bistum-augsburg.de/veranstaltungen/im-anschlus
 s-an-die-heilige-messe-treffen-aller-ek-kinder-im-pfarrheim-in-altenstadt_
 id23827
DTSTART:20250322T174500
DTEND:20250322T190000
END:VEVENT
END:VCALENDAR
