BEGIN:VCALENDAR
VERSION:2.0
PRODID:-//Sabre//Sabre VObject 4.5.6//EN
CALSCALE:GREGORIAN
BEGIN:VEVENT
UID:sabre-vobject-33d3b5c5-90b6-4499-aad2-6085f937e725
DTSTAMP:20260421T051244Z
SUMMARY:im Anschluss an die Heilige Messe: Infos von Frau Schneider (Pfarrk
 irche) anschließend Einkehr im Schlemmerwerk
DESCRIPTION:https://kalender-bistum-augsburg.de/veranstaltungen/im-anschlus
 s-an-die-heilige-messe-infos-von-frau-schneider-pfarrkirche-anschliessend-
 einkehr-im-schlemmerwerk_id23826
DTSTART:20250322T174500
DTEND:20250322T190000
END:VEVENT
END:VCALENDAR
