BEGIN:VCALENDAR
VERSION:2.0
PRODID:-//Sabre//Sabre VObject 4.5.6//EN
CALSCALE:GREGORIAN
BEGIN:VEVENT
UID:sabre-vobject-a703fa07-e327-4edf-accf-d8c40a59567d
DTSTAMP:20260421T033640Z
SUMMARY:Heilige Messe für alle EK-Kinder und Eltern in der Pfarrkirche Alt
 enstadt
DESCRIPTION:https://kalender-bistum-augsburg.de/veranstaltungen/heilige-mes
 se-fuer-alle-ek-kinder-und-eltern-in-der-pfarrkirche-altenstadt_id23825
DTSTART:20250322T170000
DTEND:20250322T174500
END:VEVENT
END:VCALENDAR
