BEGIN:VCALENDAR
VERSION:2.0
PRODID:-//Sabre//Sabre VObject 4.5.6//EN
CALSCALE:GREGORIAN
BEGIN:VEVENT
UID:sabre-vobject-712184e4-d85b-4d9d-97ab-4d07189ebafe
DTSTAMP:20260421T141043Z
SUMMARY:im Anschluss an die Heilige Messe: Infos von Frau Schneider (Pfarrk
 irche) anschließend Einkehr im Schlemmerwerk
DESCRIPTION:https://kalender-bistum-augsburg.de/veranstaltungen/im-anschlus
 s-an-die-heilige-messe-infos-von-frau-schneider-pfarrkirche-anschliessend-
 einkehr-im-schlemmerwerk_id23824
DTSTART:20250118T174500
DTEND:20250118T190000
END:VEVENT
END:VCALENDAR
