BEGIN:VCALENDAR
VERSION:2.0
PRODID:-//Sabre//Sabre VObject 4.5.6//EN
CALSCALE:GREGORIAN
BEGIN:VEVENT
UID:sabre-vobject-74bd95ff-9180-4b87-951b-515040eb0156
DTSTAMP:20260421T160448Z
SUMMARY:Heilige Messe für alle EK-Kinder und Eltern in der Pfarrkirche Alt
 enstadt
DESCRIPTION:https://kalender-bistum-augsburg.de/veranstaltungen/heilige-mes
 se-fuer-alle-ek-kinder-und-eltern-in-der-pfarrkirche-altenstadt_id23822
DTSTART:20250118T170000
DTEND:20250118T174500
END:VEVENT
END:VCALENDAR
