BEGIN:VCALENDAR
VERSION:2.0
PRODID:-//Sabre//Sabre VObject 4.5.6//EN
CALSCALE:GREGORIAN
BEGIN:VEVENT
UID:sabre-vobject-8902614c-b520-45ff-8de0-5af3c5d50df4
DTSTAMP:20260421T180024Z
SUMMARY:Osterberg: Heilige Messe mit Vorstellung der EK-Kinder
DESCRIPTION:https://kalender-bistum-augsburg.de/veranstaltungen/osterberg-h
 eilige-messe-mit-vorstellung-der-ek-kinder_id23821
DTSTART:20241201T103000
DTEND:20241201T113000
END:VEVENT
END:VCALENDAR
