BEGIN:VCALENDAR
VERSION:2.0
PRODID:-//Sabre//Sabre VObject 4.5.6//EN
CALSCALE:GREGORIAN
BEGIN:VEVENT
UID:sabre-vobject-b60759ff-95e7-4bb6-8167-f2d191f0e2aa
DTSTAMP:20260421T194543Z
SUMMARY:Altenstadt: Heilige Messe mit Vorstellung der EK-Kinder
DESCRIPTION:https://kalender-bistum-augsburg.de/veranstaltungen/altenstadt-
 heilige-messe-mit-vorstellung-der-ek-kinder_id23820
DTSTART:20241201T103000
DTEND:20241201T113000
END:VEVENT
END:VCALENDAR
