BEGIN:VCALENDAR
VERSION:2.0
PRODID:-//Sabre//Sabre VObject 4.5.6//EN
CALSCALE:GREGORIAN
BEGIN:VEVENT
UID:sabre-vobject-2dc1be9f-df2b-4e55-8fb2-18080bb8ad73
DTSTAMP:20260423T091155Z
SUMMARY:Untereichen: Heilige Messe mit Vorstellung der EK-Kinder
DESCRIPTION:https://kalender-bistum-augsburg.de/veranstaltungen/untereichen
 -heilige-messe-mit-vorstellung-der-ek-kinder_id23819
DTSTART:20241201T090000
DTEND:20241201T100000
END:VEVENT
END:VCALENDAR
