BEGIN:VCALENDAR
VERSION:2.0
PRODID:-//Sabre//Sabre VObject 4.5.6//EN
CALSCALE:GREGORIAN
BEGIN:VEVENT
UID:sabre-vobject-1d36bf72-a6b1-41ee-9383-0014d86aa095
DTSTAMP:20260423T143220Z
SUMMARY:Herrenstetten: Heilige Messe mit Vorstellung der EK-Kinder
DESCRIPTION:https://kalender-bistum-augsburg.de/veranstaltungen/herrenstett
 en-heilige-messe-mit-vorstellung-der-ek-kinder_id23818
DTSTART:20241201T090000
DTEND:20241201T100000
END:VEVENT
END:VCALENDAR
