BEGIN:VCALENDAR
VERSION:2.0
PRODID:-//Sabre//Sabre VObject 4.5.6//EN
CALSCALE:GREGORIAN
BEGIN:VEVENT
UID:sabre-vobject-70856a84-6e25-4ded-9d93-b4c4f7ceb2c8
DTSTAMP:20260420T091703Z
SUMMARY:Gesprächs-Cafe im Atlantum entfällt
DESCRIPTION:https://kalender-bistum-augsburg.de/veranstaltungen/gespraechs-
 cafe-im-atlantum-entfaellt_id21693
DTSTART:20240819T143000
LOCATION:St. Elisabeth\, Elisabethstraße 56\, 86167 Augsburg-Lechhausen
END:VEVENT
END:VCALENDAR
